BEGIN:VCALENDAR
VERSION:2.0
PRODID:-//jEvents 2.0 for Joomla//EN
CALSCALE:GREGORIAN
METHOD:PUBLISH
BEGIN:VTIMEZONE
TZID:Europe/Amsterdam
BEGIN:STANDARD
DTSTART:20230210T100000
RDATE:20230326T030000
TZOFFSETFROM:+0200
TZOFFSETTO:+0100
TZNAME:Europe/Amsterdam CET
END:STANDARD
BEGIN:STANDARD
DTSTART:20231029T020000
RDATE:20240331T030000
TZOFFSETFROM:+0200
TZOFFSETTO:+0100
TZNAME:Europe/Amsterdam CET
END:STANDARD
BEGIN:STANDARD
DTSTART:20241027T020000
RDATE:20250330T030000
TZOFFSETFROM:+0200
TZOFFSETTO:+0100
TZNAME:Europe/Amsterdam CET
END:STANDARD
BEGIN:STANDARD
DTSTART:20251026T020000
RDATE:20260329T030000
TZOFFSETFROM:+0200
TZOFFSETTO:+0100
TZNAME:Europe/Amsterdam CET
END:STANDARD
BEGIN:STANDARD
DTSTART:20261025T020000
RDATE:20270328T030000
TZOFFSETFROM:+0200
TZOFFSETTO:+0100
TZNAME:Europe/Amsterdam CET
END:STANDARD
BEGIN:STANDARD
DTSTART:20271031T020000
RDATE:20280326T030000
TZOFFSETFROM:+0200
TZOFFSETTO:+0100
TZNAME:Europe/Amsterdam CET
END:STANDARD
BEGIN:STANDARD
DTSTART:20281029T020000
RDATE:20290325T030000
TZOFFSETFROM:+0200
TZOFFSETTO:+0100
TZNAME:Europe/Amsterdam CET
END:STANDARD
BEGIN:STANDARD
DTSTART:20291028T020000
RDATE:20300331T030000
TZOFFSETFROM:+0200
TZOFFSETTO:+0100
TZNAME:Europe/Amsterdam CET
END:STANDARD
BEGIN:STANDARD
DTSTART:20301027T020000
RDATE:20310330T030000
TZOFFSETFROM:+0200
TZOFFSETTO:+0100
TZNAME:Europe/Amsterdam CET
END:STANDARD
BEGIN:STANDARD
DTSTART:20311026T020000
RDATE:20320328T030000
TZOFFSETFROM:+0200
TZOFFSETTO:+0100
TZNAME:Europe/Amsterdam CET
END:STANDARD
BEGIN:DAYLIGHT
DTSTART:20230326T030000
RDATE:20231029T020000
TZOFFSETFROM:+0100
TZOFFSETTO:+0200
TZNAME:Europe/Amsterdam CEST
END:DAYLIGHT
BEGIN:DAYLIGHT
DTSTART:20240331T030000
RDATE:20241027T020000
TZOFFSETFROM:+0100
TZOFFSETTO:+0200
TZNAME:Europe/Amsterdam CEST
END:DAYLIGHT
BEGIN:DAYLIGHT
DTSTART:20250330T030000
RDATE:20251026T020000
TZOFFSETFROM:+0100
TZOFFSETTO:+0200
TZNAME:Europe/Amsterdam CEST
END:DAYLIGHT
BEGIN:DAYLIGHT
DTSTART:20260329T030000
RDATE:20261025T020000
TZOFFSETFROM:+0100
TZOFFSETTO:+0200
TZNAME:Europe/Amsterdam CEST
END:DAYLIGHT
BEGIN:DAYLIGHT
DTSTART:20270328T030000
RDATE:20271031T020000
TZOFFSETFROM:+0100
TZOFFSETTO:+0200
TZNAME:Europe/Amsterdam CEST
END:DAYLIGHT
BEGIN:DAYLIGHT
DTSTART:20280326T030000
RDATE:20281029T020000
TZOFFSETFROM:+0100
TZOFFSETTO:+0200
TZNAME:Europe/Amsterdam CEST
END:DAYLIGHT
BEGIN:DAYLIGHT
DTSTART:20290325T030000
RDATE:20291028T020000
TZOFFSETFROM:+0100
TZOFFSETTO:+0200
TZNAME:Europe/Amsterdam CEST
END:DAYLIGHT
BEGIN:DAYLIGHT
DTSTART:20300331T030000
RDATE:20301027T020000
TZOFFSETFROM:+0100
TZOFFSETTO:+0200
TZNAME:Europe/Amsterdam CEST
END:DAYLIGHT
BEGIN:DAYLIGHT
DTSTART:20310330T030000
RDATE:20311026T020000
TZOFFSETFROM:+0100
TZOFFSETTO:+0200
TZNAME:Europe/Amsterdam CEST
END:DAYLIGHT
END:VTIMEZONE
BEGIN:VEVENT
UID:d979ec97f7b0efdb1aecfce0e713794f
CATEGORIES:Buitenrit
CREATED:20231017T171952
SUMMARY:Strandrit De Frieze Hendriksen,  Wassenaar
DESCRIPTION:<p><em><strong>&nbsp;</strong></em></p><p><span style="color: #ff0000;"><em
 ><strong>FRIESE PAARDEN&nbsp; &nbsp;DUIN_STRANDRIT&nbsp; te&nbsp; WASSENAAR
 </strong></em></span></p><p>Wat was het leuk al die 500 Friese Paarden op h
 et strand van Callantsoog !!&nbsp; Hier is je kans om zelf op een Fries paa
 rd het strand op te gaan.&nbsp;&nbsp;</p><div>We bieden een rit van 2,5 uur
  door de duinen en over het strand van Wassenaar op&nbsp;een Fries Paard,&n
 bsp;de paarden zijn allemaal gekleed in Friese en Oranje tinten.</div><div>
 &nbsp;</div><div>Datum:&nbsp;&nbsp;Op zondag 11 februari 2024 van 10.00-12.
 30.&nbsp;Om 09.30 worden&nbsp;we verwacht op stal voor de indeling en het z
 adelen.&nbsp;Rijkleding en Rij-ervaring vereist.&nbsp;</div><div>Er is geen
  specifieke gewichtsgrens, wel vraag om "common sense".</div><div>&nbsp;</d
 iv><div>Prijs Euro:</div><div>leden&nbsp; &nbsp; &nbsp; &nbsp; 50,00&nbsp; 
 &nbsp; &nbsp; &nbsp; &nbsp; &nbsp; &nbsp; &nbsp; &nbsp; &nbsp;</div><div>ni
 et-leden 55,00</div><div>&nbsp;</div><div><a href="http://www.defriezenhend
 rikse.">http://www.defriezenhendrikse.</a><wbr />nl/&nbsp; &nbsp; &nbsp;</d
 iv><div><a href="https://www.facebook.com/defriezen.henderikse.1">https://w
 ww.facebook.com/defriezen.henderikse.1</a>&nbsp; &nbsp; &nbsp;( FB pagina v
 an Monique Hendrikse)</div><div>&nbsp;</div><div><strong>De Friezen Hendrik
 se Stal Bellesteyn</strong></div><div>Oostdorperweg 197, 2241 BG Wassenaar<
 /div><div>&nbsp;</div><div><div>Er kunnen 10 ruiters mee, dan wordt het een
  prive BBRR-rit, bij minder deelnemers van ons wordt de groep aangevuld tot
  10, daarom kun je <span style="text-decoration: underline; color: #ff0000;
 ">na 2 weken tevoren NIET kosteloos annuleren.</span></div><div>Ze zitten a
 ltijd vol. Geef je dus zo snel mogelijk op !</div><div>&nbsp;</div></div><d
 iv>1. Mathijs de Vries</div><div>2. Philine Hogeweg</div><div>3. Esmee Otto
 </div><div>4. Astrid Vleeshakker</div><div>5. Anne-Maaike van Vliet</div><d
 iv>6. Dineke Hoekstra</div><div>7. Evert Goede</div><div>&nbsp;</div><div>&
 nbsp;Aantallen (7)&nbsp; zijn doorgegeven 28/1/2024 en kunnen niet meer gew
 ijzigd ! (Indien je onverhoopt niet kunt, zorg dan zelf voor een vervanger,
  ze restitueren niet)</div><div>&nbsp;</div><div>Reservelijst:</div><div>8.
 </div>
CONTACT:Laura
DTSTAMP:20260420T090636
DTSTART;TZID=Europe/Amsterdam:20240211T100000
DTEND;TZID=Europe/Amsterdam:20240211T123000
SEQUENCE:0
TRANSP:OPAQUE
END:VEVENT
END:VCALENDAR